BEGIN:VCALENDAR
VERSION:2.0
PRODID:-//wp-events-plugin.com//7.2.3.1//EN
BEGIN:VEVENT
UID:43@organicalberta.org
DTSTART:20250917T093000Z
DTEND:20250917T123000Z
DTSTAMP:20250912T194158Z
URL:https://organicalberta.org/events/what-a-waste-managing-on-farm-carcas
 ses-wildfire-conflict-plastic-waste/
SUMMARY:What a Waste: Managing On-Farm Carcasses\, Wildfire Conflict &amp\;
  Plastic Waste
DESCRIPTION:Register Here\n\nA free hybrid seminar for farmers and ranchers
  tackling real-world waste challenges.\n\nFrom carcass disposal headaches 
 to plastic buildup and wildlife conflict\, managing on-farm waste is a cha
 llenge for producers. Join us for a practical morning seminar designed to 
 give you tools\, context\, and clarity on how to manage waste while stayin
 g compliant and protecting your land and livestock.\n\nWhat you’ll hear 
 about:\n\n 	Alberta’s Dead Animal Regulation and practical carcass dispo
 sal options\n 	Solutions for managing farm plastics and other on-farm wast
 e\n 	A producer’s firsthand experience with wildlife conflict and carcas
 s management\n\nWho should attend?\n\nFarmers\, ranchers\, landowners\, ag
  professionals\, and anyone managing carcasses\, waste\, or wildlife press
 ures in agricultural settings.\n\nCan’t make it in person?\n\nThis event
  will be livestreamed\, and a recording will be available after. Select yo
 ur preferred attendance option when registering.\n\nCost: Free (registrat
 ion required)\n\nHosted by: Farming Forward\, in partnership with local e
 xperts and producers\n\nRegister Here
ATTACH;FMTTYPE=image/jpeg:https://organicalberta.org/wp-content/uploads/20
 25/09/What-a-Waste-Seminar-4.png
CATEGORIES:Other Events
END:VEVENT
END:VCALENDAR