BEGIN:VCALENDAR
VERSION:2.0
PRODID:-//wp-events-plugin.com//7.2.3.1//EN
BEGIN:VEVENT
UID:70@organicalberta.org
DTSTART:20260113T000000Z
DTEND:20260115T000000Z
DTSTAMP:20251127T224513Z
URL:https://organicalberta.org/events/western-canadian-crop-production-sho
 w/
SUMMARY:Western Canadian Crop Production Show
DESCRIPTION:The Western Canada Crop Production Show will hold from January 
 13-15\, 2026 at Prairieland Park Corporation\, Saskatoon. WCCPS has been t
 he “must-attend” event for farmers since 1983\, making it a true leade
 r in the field of crop science and technology. During the course of the tr
 ade show\, over 20\,000 attendees visit Saskatoon to liaise with the 330+ 
 exhibitors spread across 240\,000 sq. ft. of trade space.\n\nFind out more
  and get tickets here: https://www.cropproductionshow.com/\n\nInformation 
 on the show and Prairieland can be found on our websites\; www.cropproduct
 ionshow.com and www.prairielandpark.com
ATTACH;FMTTYPE=image/jpeg:https://organicalberta.org/wp-content/uploads/20
 25/11/10-1.png
CATEGORIES:Other Events
END:VEVENT
END:VCALENDAR