BEGIN:VCALENDAR
VERSION:2.0
PRODID:-//wp-events-plugin.com//7.2.3.1//EN
BEGIN:VEVENT
UID:30@organicalberta.org
DTSTART:20250508T100000Z
DTEND:20250508T113000Z
DTSTAMP:20250502T003805Z
URL:https://organicalberta.org/events/sustainability-series-webinar/
SUMMARY:Sustainability Series Webinar
DESCRIPTION:You are invited to attend the next Sustainability Series Webina
 r on May 8th from 10:00am to 11:30am MST about Alberta’s Public Trust 
 Trends.\nThe Sustainability Series Webinars are hosted by the Ministry o
 f Agriculture and Irrigation’s Natural Resource Management Branch.  The
  Sustainability Series Webinars bring industries\, stakeholders\, and gove
 rnments together to share and learn about initiatives and innovations supp
 orting sustainability of Alberta’s agriculture sector.\nPlease forward t
 his invitation to others you feel may be interested!\nUnderstanding Albert
 ans’ trust in the food system is difficult as it is complex and shifts o
 ver time in relation to many evolving factors. Through a survey of Alberta
 ns and Canadians the Canadian Centre for Food Integrity (CCFI) provides re
 levant\, reliable and consistent information about public trust issues in 
 the agriculture and food system. CCFI’s 2024 survey provides trends of A
 lbertans’ perspectives of Canada’s agriculture and food system. This h
 elps the agriculture industry with decision making and communication effor
 ts to address key areas of concern for Albertans.\nThese results be presen
 ted by Ashley Bruner\, Director of Research and Stakeholder Engagement wit
 h the Canadian Centre for Food Integrity.\nWe will also hear from Melody G
 arner-Skiba\, Executive Director of the Intensive Livestock Working Group 
 about what actions their group has been undertaking to support building pu
 blic trust in Alberta.\nWebinar Logistics: \nThis event will take place o
 n May 8th at 10:00am - 11:30am MST on MS Teams meeting platform.\n\n\n 	\
 n\n 	The webinar will be approximately 1 hour and consist of presentations
  with Question and Answer (Q&amp\;A) to follow.\n 	The webinar participant
 s will receive a short poll to provide feedback and input into future Sust
 ainability Series.\n\n\n\nThe webinar will be recorded and posted on the 
 Sustainability Series YouTube playlist for you to watch at a convenient t
 ime.\nInterested in past webinars? Recordings of webinars are available o
 n our Sustainability Series Webpage\nIf you have any questions about this
  webinar\, please reach out to:\nLaura Ung\, Provincial Evaluation Special
 ist\nNatural Resource Management Branch\nAlberta Agriculture and Irrigatio
 n\nlaura.ung@gov.ab.ca
ATTACH;FMTTYPE=image/jpeg:https://organicalberta.org/wp-content/uploads/20
 25/05/image001.png
END:VEVENT
END:VCALENDAR