BEGIN:VCALENDAR
VERSION:2.0
PRODID:-//wp-events-plugin.com//7.2.3.1//EN
BEGIN:VEVENT
UID:92@organicalberta.org
DTSTART;TZID=America/New_York:20260202T130000
DTEND;TZID=America/New_York:20260202T143000
DTSTAMP:20260118T230644Z
URL:https://organicalberta.org/events/sowing-solutions-why-these-cover-cro
 pping-bmps/
SUMMARY:Sowing solutions: Why these cover cropping BMPs?
DESCRIPTION:Cover crops are helping farms improve soil health\, manage nutr
 ients\, and build resilience\, but what processes are driving these change
 s in the field? In this webinar\, farmers and researchers will walk throug
 h how cover crops support the soil's capacity to store carbon\, what we kn
 ow about their impact on nitrous oxide emissions\, and how species selecti
 on and management decisions shape these outcomes. We’ll also explore the
  broader on-farm benefits that are motivating adoption across Canada.\nThe
  panel will include:\n\nDr. Angela Straathof\, Research Impact Manager\, S
 oils at Guelph\, Ryan Barrett\, Farmer and Research &amp\; Agronomy Specia
 list\, PEI Potato Board\, Derek Axten\, Axten Farms\, Minton\, SK.\n\nTo r
 egister for this webinar and check out any other events as well visit thei
 r website @ FaRM Events.
ATTACH;FMTTYPE=image/jpeg:https://organicalberta.org/wp-content/uploads/20
 26/01/sowingsolutions.png
END:VEVENT
BEGIN:VTIMEZONE
TZID:America/New_York
X-LIC-LOCATION:America/New_York
BEGIN:STANDARD
DTSTART:20251102T010000
TZOFFSETFROM:-0400
TZOFFSETTO:-0500
TZNAME:EST
END:STANDARD
END:VTIMEZONE
END:VCALENDAR