BEGIN:VCALENDAR
VERSION:2.0
PRODID:-//wp-events-plugin.com//7.2.3.1//EN
BEGIN:VEVENT
UID:76@organicalberta.org
DTSTART:20251210T000000Z
DTEND:20251210T000000Z
DTSTAMP:20251127T230321Z
URL:https://organicalberta.org/events/saskorganics-organic-agronomy-produc
 er-meetings/
SUMMARY:SaskOrganics Organic Agronomy Producer Meetings
DESCRIPTION:Free online meetings convened 6 times a year. Dunling Wang (P\n
 PAg)\, Provincial Specialist - Alternative Cropping Systems\,\nSaskatchewa
 n Ministry of Agriculture will kick off the meeting w\nshort presentation 
 followed by questions and producer network\n\nJanuary 8 - Crop allelopathy
  and weed control\nFebruary 12 - Growing pulse crops (dry beans and faba b
 eans)\nMarch 5 - Nutrient Budgeting with the Nutrient Budgeting App\n\nOct
 ober 8 - Benefits of Intercropping: Research Update\nNovember 12 - Growing
  Specialty Crops\nDecember 10 - The Value of Arbuscular Mycorrhizal Fungi 
 for Crop\nProduction\n\nSee more info here: https://www.saskorganics.org/e
 vents/organicagronomydec2025
ATTACH;FMTTYPE=image/jpeg:https://organicalberta.org/wp-content/uploads/20
 25/11/1-1.png
CATEGORIES:Other Events
END:VEVENT
END:VCALENDAR