BEGIN:VCALENDAR
VERSION:2.0
PRODID:-//wp-events-plugin.com//7.2.3.1//EN
BEGIN:VEVENT
UID:77@organicalberta.org
DTSTART:20260119T000000Z
DTEND:20260119T000000Z
DTSTAMP:20251127T230451Z
URL:https://organicalberta.org/events/saskorganics-farm-club-meetings-nort
 h-1/
SUMMARY:SaskOrganics Farm Club Meetings - North #1
DESCRIPTION:In fall and winter of 2025/2026\, SaskOrganics will be hosting 
 two farm club\nmeetings in the South and two in the North.\n\nA speaker fo
 llowed by farmer sharing and networking.\nAny producer with an interest in
  organic &amp\; low-input practices welcome!\n\nNorth Meeting # 1:\nMonday
 \, January 19\, 2026\n1:00pm-4:00pm\nConservation Learning Centre (CLC)\, 
 Prince Albert\nSpeaker: CLC Staff\n\nCost: Free but registration is requir
 ed\n\nRegister here: https://www.saskorganics.org/events/farmclubnorth1
ATTACH;FMTTYPE=image/jpeg:https://organicalberta.org/wp-content/uploads/20
 25/11/2-2.png
CATEGORIES:Other Events
END:VEVENT
END:VCALENDAR