BEGIN:VCALENDAR
VERSION:2.0
PRODID:-//wp-events-plugin.com//7.2.3.1//EN
BEGIN:VEVENT
UID:98@organicalberta.org
DTSTART;TZID=America/Vancouver:20260317T173000
DTEND;TZID=America/Vancouver:20260317T190000
DTSTAMP:20260223T181200Z
URL:https://organicalberta.org/events/positive-communication-workplace-cul
 ture-in-agriculture/
SUMMARY:Positive Communication & Workplace Culture in Agriculture
DESCRIPTION:Join Young Agrarians and Brianna Lachance from AgSafe BC on Mar
 ch 17\, 2026 for a practical webinar on positive communication and workpla
 ce culture!\n\nWe’ll explore the critical role of positive communication
  and a healthy workplace culture in driving success across the agriculture
  sector. Participants will learn how fostering respectful\, open\, and cle
 ar communication can strengthen team dynamics\, improve productivity\, and
  support staff retention\, especially in the often high-pressure\, seasona
 l\, and multi-generational environments common in agriculture.\n\nKey topi
 cs we’ll cover:\n🌾Effective communication techniques for diverse team
 s (including cross-cultural and multilingual workforces)\n🌾Conflict res
 olution strategies specific to farm and agribusiness settings\n🌾Buildin
 g a culture of respect and inclusion\n🌾Creating clear roles and expecta
 tions to reduce misunderstandings and improve accountability\n🌾Practica
 l tools (like AgLife) for promoting mental wellness and reducing stress in
  rural workplaces\n\nWe hope you can join us!\n\n⏰ WHEN: March 17\, 2026
  • 5:30 PT\, 6:30 MT\, 7:30 CT\, 8:30 ET\, 9:30 AT\n\n📍LOCATION: Onli
 ne - Zoom link will be sent to registered attendees.⁠\n\nRegister here: 
 https://youngagrarians.org/events/march-17-2026-online-positive-communicat
 ion-workplace-culture-in-agriculture/\n\n#youngagrarians
LOCATION:https://youngagrarians.org/events/march-17-2026-online-positive-co
 mmunication-workplace-culture-in-agriculture/
END:VEVENT
BEGIN:VTIMEZONE
TZID:America/Vancouver
X-LIC-LOCATION:America/Vancouver
BEGIN:DAYLIGHT
DTSTART:20260308T030000
TZOFFSETFROM:-0800
TZOFFSETTO:-0700
TZNAME:PDT
END:DAYLIGHT
END:VTIMEZONE
END:VCALENDAR