BEGIN:VCALENDAR
VERSION:2.0
PRODID:-//wp-events-plugin.com//7.2.3.1//EN
BEGIN:VEVENT
UID:100@organicalberta.org
DTSTART;TZID=America/Edmonton:20260411T140000
DTEND;TZID=America/Edmonton:20260411T203000
DTSTAMP:20260304T190456Z
URL:https://organicalberta.org/events/peace-country-mixer/
SUMMARY:Peace Country Mixer
DESCRIPTION:Calling all Peace Country farmers! Join us for a casual gatheri
 ng on Treaty 8 Territory to connect\, learn\, feast\, and celebrate all th
 ings farming.\n\nThis event will include:\n\n🌱A community space where y
 ou can get to know other new and aspiring farmers in the Peace Country\, w
 hile discussing ideas that will help build relationships\, grow local food
  systems\, and foster a more inclusive and resilient farming future\n\n
 🌱A screening of “Women Who Dig\,” followed by Q&amp\;A with Trina M
 oyles and Anna Kuelken\n\n🌱A delicious potluck dinner\n\nThe mixer is o
 pen to everyone – whether you are 3 or 83\, we welcome agrarians of all 
 ages. We hope you can join us!\n\n📍 WHERE: Demmitt Culture Society Hall
 \, Demmitt\, AB\n\n📅 WHEN: Saturday\, April 11\, 2026 | 2-8:30pm\n\nLea
 rn more and reserve your spot here👇🏽:\n\nhttps://youngagrarians.org/
 events/apr-11-2026-demmitt-ab-peace-country-mixer/\n\n#PeaceCountryMixer #
 YoungAgrarians
CATEGORIES:Other Events
END:VEVENT
BEGIN:VTIMEZONE
TZID:America/Edmonton
X-LIC-LOCATION:America/Edmonton
BEGIN:DAYLIGHT
DTSTART:20260308T030000
TZOFFSETFROM:-0700
TZOFFSETTO:-0600
TZNAME:MDT
END:DAYLIGHT
END:VTIMEZONE
END:VCALENDAR