BEGIN:VCALENDAR
VERSION:2.0
PRODID:-//wp-events-plugin.com//7.2.3.1//EN
BEGIN:VEVENT
UID:73@organicalberta.org
DTSTART:20260122T000000Z
DTEND:20260124T000000Z
DTSTAMP:20251127T225123Z
URL:https://organicalberta.org/events/pacific-agriculture-show/
SUMMARY:Pacific Agriculture Show
DESCRIPTION:The Pacific Agriculture Show will showcase the latest and mos
 t innovative equipment and technology for the agriculture industry. Join t
 housands of farmers and agri-food producers in comparing and investigating
  what over 300 exhibitors have to make your operation more efficient.\n\nB
 C’s agriculture industry is unique in its diversity and the Show attract
 s an attendance from all the livestock and horticulture sectors including:
  dairy\, cattle\, poultry\, equine\, hogs\, llamas\, alpacas\, to vegetabl
 e\, berry\, grape\, bulb\, ornamentals\, hothouse\, flower and shrub growi
 ng and more.\n\nFind out more and get tickets here: https://agriculturesho
 w.net/
ATTACH;FMTTYPE=image/jpeg:https://organicalberta.org/wp-content/uploads/20
 25/11/13-1.png
CATEGORIES:Other Events
END:VEVENT
END:VCALENDAR