BEGIN:VCALENDAR
VERSION:2.0
PRODID:-//wp-events-plugin.com//7.2.3.1//EN
BEGIN:VEVENT
UID:37@organicalberta.org
DTSTART;TZID=America/Edmonton:20250708T160000
DTEND;TZID=America/Edmonton:20250708T170000
DTSTAMP:20250626T171312Z
URL:https://organicalberta.org/events/organic-standards-review-community-c
 onversation/
SUMMARY:Organic Standards Review: Community Conversation
DESCRIPTION:An online community conversation about the current Canadian Org
 anic Standards Review\, hosted by Organic Agriculture Centre of Canada\, O
 rganic Nova Scotia\, and Atlantic Canadian Organic Regional Network.\n\nJu
 ly 8th\, 3pm PDT/MST\, 4pm MDT/CST\, 6pm EST/CDT\n\nNo registration requir
 ed - you can access the session through this link: http://https//us02web.z
 oom.us/j/89503091176?pwd=GuFjPqrag7d3ARXHXQSNatDCrqL5Eu.1
ATTACH;FMTTYPE=image/jpeg:https://organicalberta.org/wp-content/uploads/20
 25/06/COS-Review-Sessions.png
END:VEVENT
BEGIN:VTIMEZONE
TZID:America/Edmonton
X-LIC-LOCATION:America/Edmonton
BEGIN:DAYLIGHT
DTSTART:20250309T030000
TZOFFSETFROM:-0700
TZOFFSETTO:-0600
TZNAME:MDT
END:DAYLIGHT
END:VTIMEZONE
END:VCALENDAR