BEGIN:VCALENDAR
VERSION:2.0
PRODID:-//wp-events-plugin.com//7.2.3.1//EN
BEGIN:VEVENT
UID:90@organicalberta.org
DTSTART;TZID=America/Edmonton:20260119T130000
DTEND;TZID=America/Edmonton:20260119T143000
DTSTAMP:20260109T181231Z
URL:https://organicalberta.org/events/organic-alberta-conference-planning-
 meeting-2/
SUMMARY:Organic Alberta Conference Planning Meeting #2
DESCRIPTION:Don't miss out on joining our conference planning team for anot
 her meeting on January 19th at 1pm! This is the follow-up meeting from our
  first conference brainstorming meeting on November 26th\, where we heard 
 some great suggestions for speakers\, topics\, and session formats. Since 
 then\, we've developed a tentative agenda and invited speakers. In this ne
 xt meeting\, on January 19th\, we want to get your feedback on our current
  plans. You're still welcome to attend even if you weren't able to make th
 e first meeting. In return for attending at least one of these sessions\, 
 not only will you see your suggestions come to life at the conference\, bu
 t we’ll offer you a discount on the ticket price.
ATTACH;FMTTYPE=image/jpeg:https://organicalberta.org/wp-content/uploads/20
 26/01/conference-planning-1.png
END:VEVENT
BEGIN:VTIMEZONE
TZID:America/Edmonton
X-LIC-LOCATION:America/Edmonton
BEGIN:STANDARD
DTSTART:20251102T010000
TZOFFSETFROM:-0600
TZOFFSETTO:-0700
TZNAME:MST
END:STANDARD
END:VTIMEZONE
END:VCALENDAR