BEGIN:VCALENDAR
VERSION:2.0
PRODID:-//wp-events-plugin.com//7.2.3.1//EN
BEGIN:VEVENT
UID:93@organicalberta.org
DTSTART;TZID=America/Edmonton:20260312T121500
DTEND;TZID=America/Edmonton:20260312T163000
DTSTAMP:20260303T154311Z
URL:https://organicalberta.org/events/organic-alberta-conference-2026-pre-
 conference-tours/
SUMMARY:Organic Alberta Conference 2026 Pre-Conference Tour
DESCRIPTION:Join us on Thursday\, March 12th for a pre-conference tour to c
 omplement the 2026 Conference and Trade Show!\n\nThese tours will take pla
 ce at Annelida Soil Solutions Ltd. and The Little Potato Company\, both in
  Nisku\, Alberta.\n\nAnnelida Soil Solutions is North America’s largest 
 indoor worm farm. At their facility in Nisku\, Alberta\, they transform or
 ganic waste into premium worm castings\, liquid extracts\, and natural gra
 nular fertilizers. Their eco-friendly products enhance soil health and sup
 port sustainable agriculture. Come join us on a behind-the-scenes tour of 
 their facility and see how they make their magic. \n\nOn the second leg o
 f the tour\, we will trace the life of a potato as it goes through Little 
 Potato Company's state-of-the-art facility from receiving to sorting\, to 
 washing and packaging and finally shipping. Their receiving\, sorting and 
 washline are highly automated and are always a treat for visitors to watch
 . In addition\, their plant is very ecologically friendly and impressive\,
  a fact that isn’t immediately obvious from the outside.\n\nTours detail
 s and meeting locations will be disclosed after registration.
ATTACH;FMTTYPE=image/jpeg:https://organicalberta.org/wp-content/uploads/20
 26/01/pre-conference-tours.png
CATEGORIES:Organic Alberta Events
LOCATION:Coast Nisku Inn and Conference Centre\, 1101 4 Street\, Nisku\, Al
 berta\, T9E 7N1\, Canada
X-APPLE-STRUCTURED-LOCATION;VALUE=URI;X-ADDRESS=1101 4 Street\, Nisku\, Alb
 erta\, T9E 7N1\, Canada;X-APPLE-RADIUS=100;X-TITLE=Coast Nisku Inn and Con
 ference Centre:geo:0,0
END:VEVENT
BEGIN:VTIMEZONE
TZID:America/Edmonton
X-LIC-LOCATION:America/Edmonton
BEGIN:DAYLIGHT
DTSTART:20260308T030000
TZOFFSETFROM:-0700
TZOFFSETTO:-0600
TZNAME:MDT
END:DAYLIGHT
END:VTIMEZONE
END:VCALENDAR