BEGIN:VCALENDAR
VERSION:2.0
PRODID:-//wp-events-plugin.com//7.2.3.1//EN
BEGIN:VEVENT
UID:36@organicalberta.org
DTSTART;TZID=America/Edmonton:20250703T090000
DTEND;TZID=America/Edmonton:20250703T110000
DTSTAMP:20250625T175610Z
URL:https://organicalberta.org/events/ofc-canadian-organic-standards-answe
 rs-information-session/
SUMMARY:OFC Canadian Organic Standards Answers & Information Session
DESCRIPTION:The Organic Federation of Canada is accepting questions about t
 he proposed changes for the Canadian Organic Standards! You can submit que
 stions through an online form\, or just tune in July 3rd on Zoom to hear a
 nswers and some more information. \n\nSubmit your questions here:\n\nhttp
 s://organicfederation.us1.list-manage.com/track/click?u=f076c4d27df4082940
 dbc4c3b&amp\;id=4f51bb6b8c&amp\;e=42f5b89ae0\n\nJoin the Zoom July 3rd\, 8
 am PDT/MST - 9am MDT/CST - 11 am EST/CDT:\n\nhttps://organicfederation.us1
 .list-manage.com/track/click?u=f076c4d27df4082940dbc4c3b&amp\;id=e42b13919
 1&amp\;e=99911d1672
ATTACH;FMTTYPE=image/jpeg:https://organicalberta.org/wp-content/uploads/20
 25/06/OCO-will-be-hosting-an-event-for-the-2025-Canadian-Organic-Standards
 -Review-on-June-19th-from-12-1pm-ET-with-Simon-Jaques-from-ECOCERT.-He-wil
 l-be-going-over-the-COS-Reviewmodification-and-the-im-1.png
END:VEVENT
BEGIN:VTIMEZONE
TZID:America/Edmonton
X-LIC-LOCATION:America/Edmonton
BEGIN:DAYLIGHT
DTSTART:20250309T030000
TZOFFSETFROM:-0700
TZOFFSETTO:-0600
TZNAME:MDT
END:DAYLIGHT
END:VTIMEZONE
END:VCALENDAR