BEGIN:VCALENDAR
VERSION:2.0
PRODID:-//wp-events-plugin.com//7.2.3.1//EN
BEGIN:VEVENT
UID:102@organicalberta.org
DTSTART;TZID=America/Toronto:20260408T120000
DTEND;TZID=America/Toronto:20260413T150000
DTSTAMP:20260407T144953Z
URL:https://organicalberta.org/events/modifications-to-the-canadian-organi
 c-standards/
SUMMARY:Modifications to the Canadian Organic Standards
DESCRIPTION:\n\n\nThe revised Canadian Organic Standards will be published 
 at the end of March. These webinars on the modifications to the Canadian O
 rganic Standards will inform operators and industry stakeholders about the
  changes to prescribed practices in the production and preparation of orga
 nic products.\n\n\n\n\n\n\nRegister in advance!\n\nOrganic Plan – Crop P
 roduction (including Crops grown in structures or containers)\nApril 8\, 2
 026 12:00 PM Eastern Time (US and Canada)\nTo register: https://us06web.
 zoom.us/webinar/register/WN_Nf039E0PSFOxS1Ke7DDofw\n\nPermitted Substances
  Lists – Table 4.2 – Crop Production\nApril 9\, 2026 1:00 PM Eastern T
 ime (US and Canada)\nTo register:\nhttps://us06web.zoom.us/webinar/regist
 er/WN_PjIerbmRRN-ErbHq6zTk1Q\n\nLivestock Production – Insect Production
  – Apiculture \nApril 10\, 2026 01:00 PM Eastern Time (US and Canada)\
 nTo register:\nhttps://us06web.zoom.us/webinar/register/WN_VoPdcvxZSIGWV-y
 HqW02qQ\n\nOrganic Composition – Organic Integrity – Permitted Substan
 ces Lists in Processsing\nApril 13\, 2026 01:00 PM Eastern Time (US and C
 anada)\nTo register:\nhttps://us06web.zoom.us/webinar/register/WN_G2R_eMRH
 SJ6Z4IRiPVJMmQi\n\n\n
ATTACH;FMTTYPE=image/jpeg:https://organicalberta.org/wp-content/uploads/20
 26/03/OFC-Logo2.png
CATEGORIES:Other Events
LOCATION:https://organicfederation.ca/2025-review-of-the-canadian-organic-s
 tandards/
END:VEVENT
BEGIN:VTIMEZONE
TZID:America/Toronto
X-LIC-LOCATION:America/Toronto
BEGIN:DAYLIGHT
DTSTART:20260308T030000
TZOFFSETFROM:-0500
TZOFFSETTO:-0400
TZNAME:EDT
END:DAYLIGHT
END:VTIMEZONE
END:VCALENDAR