BEGIN:VCALENDAR
VERSION:2.0
PRODID:-//wp-events-plugin.com//7.2.3.1//EN
BEGIN:VEVENT
UID:71@organicalberta.org
DTSTART:20260120T000000Z
DTEND:20260122T000000Z
DTSTAMP:20251127T224656Z
URL:https://organicalberta.org/events/manitoba-ag-days/
SUMMARY:Manitoba Ag Days
DESCRIPTION:The Manitoba Ag Days show is an exposition of agricultural pr
 oduction expertise\, technology\, and equipment that attracts exhibitors a
 nd visitors from across Canada and the United States of America the third 
 week of January every year! We have over 550 exhibitors all under one 540\
 ,000sq ft roof.  If it has anything to do with agriculture\, you will fin
 d it at our show!\n\nFor more info visit https://www.agdays.com/\n\nKnow 
 before you go: www.agdays.com/know-before-you-go/
ATTACH;FMTTYPE=image/jpeg:https://organicalberta.org/wp-content/uploads/20
 25/11/11-1.png
CATEGORIES:Other Events
END:VEVENT
END:VCALENDAR