BEGIN:VCALENDAR
VERSION:2.0
PRODID:-//wp-events-plugin.com//7.2.3.1//EN
BEGIN:VEVENT
UID:97@organicalberta.org
DTSTART:20260408T170000Z
DTEND:20260408T190000Z
DTSTAMP:20260407T145410Z
URL:https://organicalberta.org/events/how-to-start-farming/
SUMMARY:How To Start Farming
DESCRIPTION:Farm curious? Not sure where to start? How to Start Farming: An
  Introductory Course for the Farm Curious is here to help!\n\nThis online 
 course digs into the fundamentals of farming and provides practical\, real
 -world insights into how you can get involved. If you’re exploring farmi
 ng as a potential career\, or simply want to understand what it takes\, th
 is course offers the perfect starting point.\n\nThis course provides acces
 s to:\n\n🍅 20 instructional videos and curated resources\n🍅 Weekly l
 ive sessions with first-generation farmers\n🍅 Opportunities to connect 
 with peers &amp\; ask questions\n\nThis 4-week program is open to anyone i
 nterested in farming — no prior experience required!\n\nWHEN: April 8 - 
 29. Live sessions will be held on Wednesday evenings from 5–7 pm PT\, 6
 –8 pm MT\, 7–9 pm CT\, 8–10 pm ET\, 9–11 pm AT.\n\nCOST: The sugge
 sted sliding scale cost is $100–$200\, which is $25–$50 per session. Y
 ou are welcome to contribute an amount that works for you. No one will be 
 turned away from our programs for lack of funds.\n\nWHERE: Online - join u
 s from anywhere you have an internet connection!\n\nReady to take the firs
 t step in your farming journey? Register today at https://youngagrarians.o
 rg/courses/how-to-start-farming\n\n#youngagrarians #howtostartfarming
ATTACH;FMTTYPE=image/jpeg:https://organicalberta.org/wp-content/uploads/20
 26/02/YAHow-to-Start-Farming.png
CATEGORIES:Other Events
LOCATION:https://youngagrarians.org/courses/how-to-start-farming
END:VEVENT
END:VCALENDAR