BEGIN:VCALENDAR
VERSION:2.0
PRODID:-//wp-events-plugin.com//7.2.3.1//EN
BEGIN:VEVENT
UID:49@organicalberta.org
DTSTART:20251115T083000Z
DTEND:20251115T200000Z
DTSTAMP:20251014T144139Z
URL:https://organicalberta.org/events/gathering-ground-a-producer-developm
 ent-day-2/
SUMMARY:Gathering Ground - A Producer Development Day
DESCRIPTION:Gathering Ground – A Producer Development DaySaturday\, Novem
 ber 15\, 2025Westward Equestrian Centre &amp\; Community Hall\, near White
 court\, AB\nJoin producers from across the region for a full day of learni
 ng\, networking\, and hands-on sessions. The program includes a keynote sp
 eaker\, producer panel\, interactive breakout workshops\, and live evening
  entertainment after a hearty supper.\nLearn more and register here: www.f
 armingforward.ca/events/gathering-ground
ATTACH;FMTTYPE=image/jpeg:https://organicalberta.org/wp-content/uploads/20
 25/10/Gathering-Ground-logo-3.png
CATEGORIES:Other Events
LOCATION:https://maps.app.goo.gl/BP4Wfggxa8Jha6F58
END:VEVENT
END:VCALENDAR