BEGIN:VCALENDAR
VERSION:2.0
PRODID:-//wp-events-plugin.com//7.2.3.1//EN
BEGIN:VEVENT
UID:78@organicalberta.org
DTSTART:20260113T000000Z
DTEND:20260113T000000Z
DTSTAMP:20251127T230832Z
URL:https://organicalberta.org/events/financial-confidence-empowering-wome
 n-on-the-farm-online-farm-credit-canada/
SUMMARY:Financial Confidence: Empowering Women on the Farm - Online - Farm 
 Credit Canada
DESCRIPTION:\nConnecting Women in Agriculture\n\n\n\n\nJoin us for the late
 st episode in our Connecting Women in Agriculture series as we explore the
  importance of building financial knowledge and confidence in women.\n\nAs
  author and founder of the Trauma of Money Institute\, Chantel Chapman sha
 res her more than 20 years of financial counselling and explores how finan
 cial shame uniquely impacts women\, especially in agriculture.\n\nYou’ll
  learn aspects of the Trauma of Money Method\, Chantel’s framework that 
 empowers women to overcome financial shame\, reclaim agency and break free
  from financial fawning. This session offers practical tools for building 
 confidence\, setting boundaries and understanding that financial flourishi
 ng is about more than just the numbers.\n\n\nLearn more and register here:
  https://www.eventbrite.ca/e/build-your-financial-confidence-tickets-19699
 41492032?\n\n
ATTACH;FMTTYPE=image/jpeg:https://organicalberta.org/wp-content/uploads/20
 25/11/8-1.png
CATEGORIES:Other Events
END:VEVENT
END:VCALENDAR