BEGIN:VCALENDAR
VERSION:2.0
PRODID:-//wp-events-plugin.com//7.2.3.1//EN
BEGIN:VEVENT
UID:72@organicalberta.org
DTSTART:20260122T000000Z
DTEND:20260122T000000Z
DTSTAMP:20251127T224914Z
URL:https://organicalberta.org/events/farmland-protection-and-policy-an-in
 troduction-online-ontario-farmland-trust/
SUMMARY:Farmland Protection and Policy: An Introduction - Online - Ontario 
 Farmland Trust
DESCRIPTION:Farmland Protection and Policy: An Introduction\n\nJoin the Ont
 ario Farmland Trust's Executive Director\, Martin Straathof\, and Board Ch
 air\, Margaret Walton\, for an accessible introduction to municipal planni
 ng processes and farmland protection policies. Participants will gain a fo
 undational understanding of how municipal decisions impact farmland\, what
  tools exist to influence those decisions\, and which levels of government
  and departments are responsible for decisions affecting farmland.\n\n*Onl
 ine and FREE\n\n 	Thursday\, January 22\, 2026\n 	12:00 pm – 1:00 pm\n\n
 Register here: https://form-can.keela.co/oft-january-webinar-registration-
 farmland-protection-and-policy-an-introduction\n\nNote: You will receive 
 a link to the Zoom webinar ahead of the event.
ATTACH;FMTTYPE=image/jpeg:https://organicalberta.org/wp-content/uploads/20
 25/11/12-1.png
CATEGORIES:Other Events
END:VEVENT
END:VCALENDAR