BEGIN:VCALENDAR
VERSION:2.0
PRODID:-//wp-events-plugin.com//7.2.3.1//EN
BEGIN:VEVENT
UID:82@organicalberta.org
DTSTART:20260123T090000Z
DTEND:20260123T160000Z
DTSTAMP:20251204T225148Z
URL:https://organicalberta.org/events/farm-succession-planning-stories-str
 ategies-and-shared-learning/
SUMMARY:Farm Succession Planning: Stories\, Strategies\, and Shared Learnin
 g
DESCRIPTION:\nAs Alberta’s farming population ages and many families face
  questions about the future of their land\, farm transition has become an 
 urgent topic for many rural communities. If you are considering a farm tr
 ansition\, join Young Agrarians and the Alberta Centre for Sustainable Rur
 al Communities on January 23\, 2026\, for a Farm Succession Planning day i
 n Camrose\, Alberta!\nThis event will bring together established farmers\,
  new and aspiring producers\, transition experts\, and community members t
 o explore lessons learned and best practices around farm transitions.\nAtt
 endees will get to:\n\n\n 	hear a keynote address from Annessa Good-Hassar
 d on transition strategies\n 	learn about new research on farm succession 
 readiness\, family communication\, and rural mental health\n 	participate 
 in a Farm Transition Cafe Workshop\n 	hear from a panel of farmers and tra
 nsition experts\n 	share a meal catered by local food artisans\n\nWe hope 
 you can join us!\n📆WHEN: January 23\, 2026 | 9am – 4pm\n📍LOCATION:
  Treaty 6 Territory | Mayer Family Community Hall\, Camrose\, Alberta\n
 👉 Reserve your free spot here: https://youngagrarians.org/events/jan-2
 3-2026-camrose-ab-farm-succession-planning/\n#FarmTransitionCanada #FarmSu
 ccessionPlanning #youngagrarians\n
ATTACH;FMTTYPE=image/jpeg:https://organicalberta.org/wp-content/uploads/20
 25/12/FARM-TRANSITION-CAFE-AB-JAN-2026-DRAFT-1-1.jpg
CATEGORIES:Other Events
END:VEVENT
END:VCALENDAR