BEGIN:VCALENDAR
VERSION:2.0
PRODID:-//wp-events-plugin.com//7.2.3.1//EN
BEGIN:VEVENT
UID:67@organicalberta.org
DTSTART:20251211T000000Z
DTEND:20251211T000000Z
DTSTAMP:20251127T214134Z
URL:https://organicalberta.org/events/farm-credit-canada-young-farmer-summ
 it-red-deer/
SUMMARY:Farm Credit Canada Young Farmer Summit - Red Deer
DESCRIPTION:\nElevate Your Business Skills\n\n\n\n\nSupercharge your farm m
 anagement skills!\n\nJoin us for this exciting\, free\, full-day event aim
 ed at farmers under 40 to enhance your farm management skills. Hosted by O
 lympian and rancher Sage Walker\, each program event features keynote spea
 ker Tom Deans and covers practical topics:\n\nFCC Economics\n\nStay ahead 
 of economic shifts with the FCC Economics team as they break down tariffs\
 , market volatility\, land values\, interest rates and commodity trends. G
 ain practical insights to confidently steer your farm through uncertain ti
 mes.\n\nThe happy inheritor: How successful families prepare heirs and tra
 nsfer wealth\n\nLearn how successful families pass on more than just asset
 s. Discover how guided family meetings can foster smooth\, transparent wea
 lth transfers\, ensuring your legacy endures across generations.\n\nMental
  health awareness\n\nExplore the importance of mental health in farming th
 rough open peer discussions. Identify signs of challenges and gain practic
 al tools to maintain well-being and communicate effectively within your fa
 mily and business.\n\nFarm business management coaching from Maverick Ag\n
 \nUnlock strategies to build a resilient\, successful farm operation. With
  expert coaching\, create a tailored roadmap for growth and legacy\, makin
 g a positive impact on your land\, finances and community for generations.
 \n\nHave fun and explore the business side of farming. Don’t miss your c
 hance to learn from industry experts\, connect with peers and gain insight
 s to take your operation to the next level.\n\nREGISTER HERE: https://www.
 eventbrite.ca/e/fcc-young-farmer-summit-red-deer-registration-141521872028
 9?\n\n\n
ATTACH;FMTTYPE=image/jpeg:https://organicalberta.org/wp-content/uploads/20
 25/11/3-2.png
CATEGORIES:Other Events
END:VEVENT
END:VCALENDAR