BEGIN:VCALENDAR
VERSION:2.0
PRODID:-//wp-events-plugin.com//7.2.3.1//EN
BEGIN:VEVENT
UID:84@organicalberta.org
DTSTART:20260124T090000Z
DTEND:20260124T190000Z
DTSTAMP:20251204T225731Z
URL:https://organicalberta.org/events/central-alberta-mixer/
SUMMARY:Central Alberta Mixer
DESCRIPTION:\n📣 Calling all new\, young and aspiring farmers!\nJoin us J
 anuary 24th\, 2026 for a full-day gathering on Treaty 6 Territory in Camro
 se\, Alberta\, to connect\, learn\, feast\, and celebrate all things farmi
 ng!\nWhat to expect:\n🌾A community space where you can get to know othe
 r new and aspiring farmers\n🌾Teachings from Elder Eugene Makokis\n🌾A
  space for creative thinking\, entrepreneurship\, and discussing new ideas
 \n🌾A panel with local first-generation farmers who will share their jou
 rneys\, barriers they experienced\, lessons learned\, and breakthroughs\n
 🌾Breakout sessions on topics like soil health\, grazing\, market garden
 ing\, and farm business set up\n🌾A delicious potluck lunch\, and a loca
 lly sourced and catered community dinner\nThe mixer is open to everyone 
 – whether you are 3 or 83\, we welcome agrarians of all ages!\n📅 WHE
 N: January 24\, 2026 | 9am -7pm\n📍LOCATION: Treaty 6 Territory | Mayer 
 Family Community Hall\, Camrose\, Alberta\nRegistration is free! Reserve y
 our spot here: https://youngagrarians.org/events/centralabamixer2026/\n#Ce
 ntralAlbertaMixer #ABMixer #Youngagrarians #cdnag\n
ATTACH;FMTTYPE=image/jpeg:https://organicalberta.org/wp-content/uploads/20
 25/12/E-Update-events-12.png
CATEGORIES:Other Events
END:VEVENT
END:VCALENDAR