BEGIN:VCALENDAR
VERSION:2.0
PRODID:-//wp-events-plugin.com//7.2.3.1//EN
BEGIN:VEVENT
UID:35@organicalberta.org
DTSTART;TZID=America/Edmonton:20250619T090000
DTEND;TZID=America/Edmonton:20250619T100000
DTSTAMP:20250606T183349Z
URL:https://organicalberta.org/events/canadian-organic-standards-review-se
 ssion-with-organic-council-of-ontario/
SUMMARY:Canadian Organic Standards Review Session with Organic Council of O
 ntario
DESCRIPTION:The Organic Council of Ontario will be hosting an event for the
  2025 Canadian Organic Standards Review on June 19th\, from 12-1pm ET (9 -
  10 MST) with Simon Jaques from ECOCERT. He will be going over the COS Rev
 iew/modification and the importance of the public review period. \n\nNo r
 egistration required - you can access the session through this link: https
 ://us02web.zoom.us/j/89463312423
ATTACH;FMTTYPE=image/jpeg:https://organicalberta.org/wp-content/uploads/20
 25/06/OCO-can-org-stds-rev.png
END:VEVENT
BEGIN:VTIMEZONE
TZID:America/Edmonton
X-LIC-LOCATION:America/Edmonton
BEGIN:DAYLIGHT
DTSTART:20250309T030000
TZOFFSETFROM:-0700
TZOFFSETTO:-0600
TZNAME:MDT
END:DAYLIGHT
END:VTIMEZONE
END:VCALENDAR