BEGIN:VCALENDAR
VERSION:2.0
PRODID:-//wp-events-plugin.com//7.2.3.1//EN
BEGIN:VEVENT
UID:34@organicalberta.org
DTSTART;TZID=America/Edmonton:20250704T090000
DTEND;TZID=America/Edmonton:20250704T103000
DTSTAMP:20250704T150212Z
URL:https://organicalberta.org/events/canadian-organic-standards-review-qa
 -session/
SUMMARY:Canadian Organic Standards Review Q&A Session
DESCRIPTION:With the Canadian Organic Standards open for public review\, Or
 ganic Alberta to SaskOrganics\, and Manitoba Organics are partnering on a 
 webinar to relay the highlighted changes for you and tell you how you can 
 provide formal feedback. We'll have a few guest speakers and lots of time 
 for questions. This is a rare opportunity for farmers from across the Prai
 ries to meet online and talk about our organic standard. \n\nJoin by Zoom
 :\n\nhttps://us06web.zoom.us/j/81532675026?pwd=5QhKPsTYq9d3ZFYZr6EgtbmapR0
 QZH.1\n\n&nbsp\;
ATTACH;FMTTYPE=image/jpeg:https://organicalberta.org/wp-content/uploads/20
 25/06/OCO-will-be-hosting-an-event-for-the-2025-Canadian-Organic-Standards
 -Review-on-June-19th-from-12-1pm-ET-with-Simon-Jaques-from-ECOCERT.-He-wil
 l-be-going-over-the-COS-Reviewmodification-and-the-im.png
END:VEVENT
BEGIN:VTIMEZONE
TZID:America/Edmonton
X-LIC-LOCATION:America/Edmonton
BEGIN:DAYLIGHT
DTSTART:20250309T030000
TZOFFSETFROM:-0700
TZOFFSETTO:-0600
TZNAME:MDT
END:DAYLIGHT
END:VTIMEZONE
END:VCALENDAR