BEGIN:VCALENDAR
VERSION:2.0
PRODID:-//wp-events-plugin.com//7.2.3.1//EN
BEGIN:VEVENT
UID:80@organicalberta.org
DTSTART;TZID=America/Vancouver:20260121T170000
DTEND;TZID=America/Vancouver:20260121T170000
DTSTAMP:20251202T153747Z
URL:https://organicalberta.org/events/business-bootcamp-for-new-farmers/
SUMMARY:Business Bootcamp for New Farmers
DESCRIPTION:Dreaming of starting or growing your farm business?\n\nRegistra
 tion is now open for the Young Agrarians Business Bootcamp for New Farmers
 \, starting January 21\, 2026!\nJoin a vibrant community of new and aspiri
 ng farmers as you dive into building a business plans for the farm of your
  dreams. Together\, we'll explore financial planning\, marketing\, risk ma
 nagement\, accessing capital\, and so much more.\n\nThis course is designe
 d for new farmers who:\n-Are planning on starting up an agricultural opera
 tion in the near future\; or\n-Are looking to expand an existing farm or h
 obby enterprise\; or\n-Want to start a new enterprise on an existing farm\
 n\nWHEN: January 21 to April 1\, 2026 on Wednesday evenings (5–7 pm PT\,
  6–8 pm MT\, 7–9 pm CT\, 8–10 pm ET\, 9–11 pm AT)\nCOST: The sugge
 sted sliding scale is $250 - $350\, which is $25-$35 per session. You are 
 welcome to contribute an amount that works for you. No one will be turned 
 away for lack of funds.\n\nReady to dig in? Head to our website to sign up
 : https://youngagrarians.org/courses/business-bootcamp-for-new-farmers/\n\
 n#youngagrarians #businessbootcamp #newfarmers #youngfarmers #farmbusiness
  #farmmarketing
ATTACH;FMTTYPE=image/jpeg:https://organicalberta.org/wp-content/uploads/20
 25/12/Proposals-to-modernize-Canadas-seed-regulatory-framework-7.png
END:VEVENT
BEGIN:VTIMEZONE
TZID:America/Vancouver
X-LIC-LOCATION:America/Vancouver
BEGIN:STANDARD
DTSTART:20251102T010000
TZOFFSETFROM:-0700
TZOFFSETTO:-0800
TZNAME:PST
END:STANDARD
END:VTIMEZONE
END:VCALENDAR