BEGIN:VCALENDAR
VERSION:2.0
PRODID:-//wp-events-plugin.com//7.2.3.1//EN
BEGIN:VEVENT
UID:74@organicalberta.org
DTSTART:20260129T000000Z
DTEND:20260129T000000Z
DTSTAMP:20251127T225244Z
URL:https://organicalberta.org/events/bridging-the-gap-farm-transition-wor
 kshop-edmonton-farm-management-canada/
SUMMARY:Bridging the Gap Farm Transition Workshop - Edmonton - Farm Managem
 ent Canada
DESCRIPTION:\nWhere enthusiasm meets experience.\n\n\n\n\nPlanning the futu
 re of your farm is one of the most important steps you’ll take. Bridgin
 g the Gap is uniquely designed to bring multiple generations together for
  open conversation\, shared learning\, and a stronger understanding of eac
 h other’s perspectives. Attendees will leave with clearer direction\, pr
 actical tools\, and concrete next steps to move their transition forward.\
 n\nThrough interactive sessions\, practical exercises\, and guided convers
 ations\, attendees will:\n\n 	Clarify the big picture of farm transition a
 nd identify where they are in the journey.\n 	Learn practical ways to impr
 ove conversations across generations\, ensuring everyone’s voice is hear
 d.\n 	Explore common roadblocks and discover strategies to overcome them.\
 n 	Gain confidence in their understanding of the financial considerations 
 of a farm transition\n 	Use a guided workbook to map out next steps and be
 gin shaping a transition plan tailored to their farm.\n 	Identify the righ
 t transition team to support their farm now and into the future.\n\nThe wo
 rkshop focuses on collaboration\, connection\, and action. Participants wi
 ll leave with a better understanding of their transition journey\, 1–3 t
 angible actions to pursue\, and valuable resources to keep the process mov
 ing. There will also be plenty of time for discussion\, sharing experience
 s\, and learning from other farm families.\n\nFarms of all sizes and commo
 dities are welcome\, and farm families are encouraged to attend together. 
 Whether you are just beginning to think about transition or are well into 
 the process\, Bridging the Gap offers practical support\, peer learning\, 
 and meaningful opportunities for farm families to plan together for the fu
 ture.\n\n\nRegister here: https://www.eventbrite.ca/e/bridging-the-gap-far
 m-transition-workshop-edmonton-tickets-1716499148159?aff=oddtdtcreator\n\n
ATTACH;FMTTYPE=image/jpeg:https://organicalberta.org/wp-content/uploads/20
 25/11/14.png
CATEGORIES:Other Events
END:VEVENT
END:VCALENDAR