BEGIN:VCALENDAR
VERSION:2.0
PRODID:-//wp-events-plugin.com//7.2.3.1//EN
BEGIN:VEVENT
UID:41@organicalberta.org
DTSTART:20250826T093000Z
DTEND:20250826T130000Z
DTSTAMP:20250822T173629Z
URL:https://organicalberta.org/events/breakfast-plot-tours/
SUMMARY:Breakfast Plot Tours
DESCRIPTION:Join us in the field for a practical look at weed management!\n
 \nAt Farming Forward’s Story of the Weeds breakfast plot tour\, you'll h
 ear from Natalie LaForest\, Organic Alberta’s Weed Specialist\, on how e
 nvironmental factors and interactions influence weed growth and persistenc
 e.\n\nAn interactive weed identification workshop will give you hands-on e
 xperience spotting key problem species in the field.\n\nYou’ll also get 
 insights from Farming Forward's 2025 weed suppression trial and an update 
 on our thistle rust fungus project. We are working to feature a live demon
 stration of high-temperature foam weed control\, a unique tool for managin
 g vegetation without herbicides.\n\nFree breakfast included\, please regis
 ter so we can have enough food! Come for the coffee and conversation\, lea
 ve with real-world tools you can use.\n\nClick here to learn more and regi
 ster!
ATTACH;FMTTYPE=image/jpeg:https://organicalberta.org/wp-content/uploads/20
 25/08/V1.png
END:VEVENT
END:VCALENDAR