BEGIN:VCALENDAR
VERSION:2.0
PRODID:-//wp-events-plugin.com//7.2.3.1//EN
BEGIN:VEVENT
UID:75@organicalberta.org
DTSTART:20260205T000000Z
DTEND:20260205T000000Z
DTSTAMP:20251127T225420Z
URL:https://organicalberta.org/events/beyond-the-bin-understanding-the-fie
 ld-crop-seed-system-bauta-family-initiative-on-canadian-seed-security/
SUMMARY:Beyond the Bin: Understanding the Field Crop Seed System - Bauta Fa
 mily Initiative on Canadian Seed Security
DESCRIPTION:Beyond the Bin: Understanding the Field Crop Seed System\nBin-r
 un seed\, the portion of the crop that farmers save for next year’s plan
 ting\, remains an important part of most farm operations\, but there’s a
  lot more to the story of where our field crop seed comes from! In this we
 binar\, we’re turning our attention to field crops— like oats\, dry-be
 ans\, and forages —to ask the question:\n\nWhere do our seeds come from?
 \n\nThis webinar will feature presentations from a public plant breeder\, 
 a certified seed grower and an industry leader. The conversation will prov
 ide an overview of how the formal seed system works for different field cr
 ops and dig into some of the economic factors. From breeding and variety r
 egistration to certified seed production and distribution\, each step play
 s a critical role to supply farmers with high quality seeds.\n\nOur seed s
 ystem also faces specific economic\, regulatory and technical challenges\,
  especially when it comes to supplying seeds that are regionally-adapted\,
  genetically diverse\, that thrive in organic and regenerative systems or 
 are meant to supply local and specialty markets.\n\nWe will discuss the tr
 adeoffs that farmers balance when saving or sourcing their field crop seed
 \, and explore how we can build more resilience into the seed system that 
 is the backbone of Canadian agriculture.\n\nSpeakers:\n\nDr. Jamie Larsen\
 , AAFC\n\nHeather Kerschbaumer\, Golden Acre Seeds\n\nScott Shiels\, Grain
  Millers\n\nPresentations will be in English with translated slides.\n\n&n
 bsp\;\n\nSee more and register here: https://www.eventbrite.ca/e/beyond-th
 e-bin-understanding-the-field-crop-seed-system-tickets-1542917591049?aff=o
 ddtdtcreator
ATTACH;FMTTYPE=image/jpeg:https://organicalberta.org/wp-content/uploads/20
 25/11/15.png
CATEGORIES:Other Events
END:VEVENT
END:VCALENDAR