BEGIN:VCALENDAR
VERSION:2.0
PRODID:-//wp-events-plugin.com//7.2.3.1//EN
BEGIN:VEVENT
UID:91@organicalberta.org
DTSTART:20260228T000000Z
DTEND:20260301T000000Z
DTSTAMP:20260118T225752Z
URL:https://organicalberta.org/events/bc-mixer/
SUMMARY:BC Mixer
DESCRIPTION:Calling all farmers!\n\nYoung Agrarians (YA) invites you to joi
 n us to share knowledge and connect with each other – towards growing th
 e next generation of farmers.\n\nYA (un)conference-style Mixers are a grea
 t opportunity to support and connect with passionate new and young farmers
  in the YA network.\n\nThreads woven through the weekend include sustainab
 le business management\, ecological and regenerative production\, farmer h
 ealth and wrap-around-care\, policy change and Indigenous food sovereignty
 .\n\nYA mixers are known for the remarkable connections made: new possibi
 lities for collaboration\, support\, sharing and cooperation. To make the
  most of this\, come with an openness to meet new people\, share something
  that you have to offer (like employment\, land or special skills) and som
 ething that you might need (such as specific tools\, crop planning models 
 or mentorship).\n\nTo learn more about this event and to register visit FE
 B 28-MAR 1\, 2026: SNPINTKTN\, PENTICTION\, BC Mixer - Young Agrarians
ATTACH;FMTTYPE=image/jpeg:https://organicalberta.org/wp-content/uploads/20
 26/01/BCMixer.png
END:VEVENT
END:VCALENDAR