BEGIN:VCALENDAR
VERSION:2.0
PRODID:-//wp-events-plugin.com//7.2.3.1//EN
BEGIN:VEVENT
UID:101@organicalberta.org
DTSTART;TZID=America/Edmonton:20260410T080000
DTEND;TZID=America/Edmonton:20260410T170000
DTSTAMP:20260330T175411Z
URL:https://organicalberta.org/events/2026-organic-farming-and-trade-show-
 in-la-crete/
SUMMARY:2026 Organic Farming and Trade Show in La Crete
DESCRIPTION:On April 10\, 2026\, join fellow farmers\, processors\, and agr
 icultural professionals from across Northern Alberta for a one-day confere
 nce and trade show at the La Crete Heritage Centre. Explore the unique opp
 ortunities and challenges of the Peace Region\, one of Canada’s key orga
 nic hubs with over 300 organic farms. Attend farmer-led sessions\, visit t
 he trade show to connect directly with industry experts\, discover new too
 ls and resources\, and gain practical insights to grow your operation.\n\n
 Registrations and trade show will begin at 8am\, with speakers from 9am - 
 5pm.\n\nPeople who register in advance will have lunch and snacks provided
 .\n\n\n
ATTACH;FMTTYPE=image/jpeg:https://organicalberta.org/wp-content/uploads/20
 26/03/La-Crete-poster.png
CATEGORIES:Organic Alberta Events
LOCATION:La Crete Heritage Centre\, 15411 Township Road 1060\, Buffalo Head
  Prairie\, Alberta\, T0H 4A0\, Canada
X-APPLE-STRUCTURED-LOCATION;VALUE=URI;X-ADDRESS=15411 Township Road 1060\, 
 Buffalo Head Prairie\, Alberta\, T0H 4A0\, Canada;X-APPLE-RADIUS=100;X-TIT
 LE=La Crete Heritage Centre:geo:0,0
END:VEVENT
BEGIN:VTIMEZONE
TZID:America/Edmonton
X-LIC-LOCATION:America/Edmonton
BEGIN:DAYLIGHT
DTSTART:20260308T030000
TZOFFSETFROM:-0700
TZOFFSETTO:-0600
TZNAME:MDT
END:DAYLIGHT
END:VTIMEZONE
END:VCALENDAR