BEGIN:VCALENDAR
VERSION:2.0
PRODID:-//wp-events-plugin.com//7.2.3.1//EN
BEGIN:VEVENT
UID:88@organicalberta.org
DTSTART;TZID=America/Edmonton:20260313T080000
DTEND;TZID=America/Edmonton:20260314T170000
DTSTAMP:20260313T143804Z
URL:https://organicalberta.org/events/2026-conference-and-trade-show/
SUMMARY:Organic Alberta 2026 Conference and Trade Show
DESCRIPTION:On March 13–14\, 2026\, join us at the Beaumont Community 
 Centre for one of Alberta’s most dynamic gatherings for organic and sus
 tainable agriculture. Connect with hundreds of fellow farmers\, processors
 \, and agricultural professionals from across the province. Participate in
  engaging workshops\, hear from expert speakers\, and explore the trade sh
 ow\, where you can meet industry leaders\, discover new products and servi
 ces\, and build valuable connections that support your farm or business.\n
 \nRegistrations are now closed online\, but will still be accepted at the 
 door on March 13th or 14th.\n\nIndividual March 13th &amp\; 14th Pass\, in
 cluding Banquet Dinner - $300 + tax\n\nIndividual March 13th\, including B
 anquet Dinner - $180 + tax\n\nIndividual March 14th - $150 + tax\n\nFarm P
 air March 13 &amp\; 14th\, Including Banquet Dinner - $550 + tax\n\nFarm P
 air\, March 13th including Banquet Dinner - $330 + tax\n\nFarm Pair\, Marc
 h 14th - $263 + tax\n\nIndividual\, March 13th Banquet Only - $98 + tax\n\
 nFarm Pair\, March 13th Banquet Only - $150 + tax\n\nKids 12 and under do 
 not need a ticket and are $20 at the door per day.
ATTACH;FMTTYPE=image/jpeg:https://organicalberta.org/wp-content/uploads/20
 25/12/2026Beaumont.png
CATEGORIES:Organic Alberta Events
LOCATION:Beaumont Community Centre\, 5204 50 Avenue\, Beaumont\, Alberta\, 
 T4X 1E3\, Canada
X-APPLE-STRUCTURED-LOCATION;VALUE=URI;X-ADDRESS=5204 50 Avenue\, Beaumont\,
  Alberta\, T4X 1E3\, Canada;X-APPLE-RADIUS=100;X-TITLE=Beaumont Community 
 Centre:geo:0,0
END:VEVENT
BEGIN:VTIMEZONE
TZID:America/Edmonton
X-LIC-LOCATION:America/Edmonton
BEGIN:DAYLIGHT
DTSTART:20260308T030000
TZOFFSETFROM:-0700
TZOFFSETTO:-0600
TZNAME:MDT
END:DAYLIGHT
END:VTIMEZONE
END:VCALENDAR